BEGIN:VCALENDAR
VERSION:2.0
PRODID:-//CiviCRM//NONSGML CiviEvent iCal//EN
X-WR-TIMEZONE:Europe/Istanbul
METHOD:PUBLISH
BEGIN:VTIMEZONE
TZID:Europe/Istanbul
BEGIN:STANDARD
TZOFFSETFROM:+0300
TZOFFSETTO:+0300
TZNAME:+03
DTSTART:20260512T200000
END:STANDARD
END:VTIMEZONE
BEGIN:VEVENT
UID:CiviCRM_EventID_3773_7de277cec5f9cd97cdad0adadd9db21b@www.ogretmenagi.org/en
SUMMARY:Beyond Tech: Media Literacy for Social Justice and
  Inclusion
X-ALT-DESC;FMTTYPE=text/html:<!DOCTYPE HTML PUBLIC
  "-//W3C//DTD HTML 3.2//EN"><html><body><p style="
 line-height:1.3800000000000001\;margin-bottom:12pt
 \;margin-top:12pt\;text-align:justify\;"><span sty
 le="background-color:transparent\;color:#000000\;"
 ><span style="font-family:Calibri\, sans-serif\;fo
 nt-size:12pt\;font-style:normal\;font-variant:norm
 al\;font-weight:400\;text-decoration:none\;vertica
 l-align:baseline\;white-space:pre-wrap\;">9 Mart P
 azartesi</span></span><span style="background-colo
 r:#ffffff\;color:#000000\;"><span style="font-fami
 ly:Calibri\, sans-serif\;font-size:12pt\;font-styl
 e:normal\;font-variant:normal\;font-weight:400\;te
 xt-decoration:none\;vertical-align:baseline\;white
 -space:pre-wrap\;"> günü </span></span><span style
 ="background-color:transparent\;color:#000000\;"><
 span style="font-family:Calibri\, sans-serif\;font
 -size:12pt\;font-style:normal\;font-variant:normal
 \;font-weight:400\;text-decoration:none\;vertical-
 align:baseline\;white-space:pre-wrap\;">20:30-22:0
 0</span></span><span style="background-color:#ffff
 ff\;color:#000000\;"><span style="font-family:Cali
 bri\, sans-serif\;font-size:12pt\;font-style:norma
 l\;font-variant:normal\;font-weight:400\;text-deco
 ration:none\;vertical-align:baseline\;white-space:
 pre-wrap\;"> saatleri arasında Zoom’da çevrimiçi o
 larak gerçekleşecek</span></span><span style="back
 ground-color:transparent\;color:#000000\;"><span s
 tyle="font-family:Calibri\, sans-serif\;font-size:
 12pt\;font-style:normal\;font-variant:normal\;font
 -weight:400\;text-decoration:none\;vertical-align:
 baseline\;white-space:pre-wrap\;"> </span></span><
 span style="background-color:#ffffff\;color:#00000
 0\;"><span style="font-family:Calibri\, sans-serif
 \;font-size:12pt\;font-style:normal\;font-variant:
 normal\;font-weight:400\;text-decoration:none\;ver
 tical-align:baseline\;white-space:pre-wrap\;">Tekn
 iğin Ötesinde: Toplumsal Adalet ve Kapsayıcılık iç
 in Medya Okuryazarlığı etkinliğine davetlisiniz!</
 span></span></p><p style="line-height:1.3800000000
 000001\;margin-bottom:12pt\;margin-top:12pt\;text-
 align:justify\;"><span style="background-color:#ff
 ffff\;color:#000000\;"><span style="font-family:Ca
 libri\, sans-serif\;font-size:12pt\;font-style:nor
 mal\;font-variant:normal\;font-weight:400\;text-de
 coration:none\;vertical-align:baseline\;white-spac
 e:pre-wrap\;">Medya okuryazarlığı son yıllarda hem
  iletişim hem de eğitim bilimlerinin önemli konula
 rından biri haline geldi. Dijital teknolojilerin e
 ğitimi gittikçe şekillendirdiği\, toplumsal eşitsi
 zliklerin\, ayrımcılıkların ve şiddetin daha da gö
 rünür olduğu günümüz dünyasında medya okuryazarlığ
 ı eğitiminin daha bütüncül bir perspektifle kurulm
 ası gerekiyor. Bu buluşmada Çiğdem Bozdağ hocamızl
 a medya okuryazarlığını “kapsayıcı pedagoji” ve “t
 oplumsal eşitsizlikler” perspektifiyle ele alan ça
 lışmalarını konuşacağız. Medya okuryazarlığını tek
 nik bir becerinin ötesinde\, bir toplumsal adalet 
 ve kapsayıcılık meselesi olarak nasıl ele alabilec
 eğimizi tartışacak\, özellikle farklı kültürel ve 
 sosyo-ekonomik arka planlara sahip öğrencilerin ol
 duğu heterojen sınıflarda eleştirel bir medya eğit
 iminin nasıl kurgulanabileceğini tartışacağız. </s
 pan></span></p><p style="line-height:1.38000000000
 00001\;margin-bottom:0pt\;margin-top:0pt\;"><span 
 style="background-color:transparent\;color:#000000
 \;"><span style="font-family:Calibri\, sans-serif\
 ;font-size:12pt\;font-style:normal\;font-variant:n
 ormal\;font-weight:400\;text-decoration:none\;vert
 ical-align:baseline\;white-space:pre-wrap\;">SEÇBİ
 R-Öğretmen Ağı Akademi Buluşmaları\, akademide yür
 ütülen çalışmaların ve üretilen bilgilerin öğretme
 nler başta olmak üzere eğitimle ilgilenen herkesle
 \, öğretmenlerdeki deneyimin ise akademiyle paylaş
 ılmasını amaçlamaktadır. Farklı disiplinlerden aka
 demisyenlerin farklı branşlardan eğitimcilerle bir
  araya gelmesiyle günümüzün sorunlarına disiplinle
 rarası bir bakış geliştirmeyi de hedeflemektedir. 
 </span></span></p><p style="background-color:#ffff
 ff\;line-height:1.3800000000000001\;margin-bottom:
 0pt\;margin-top:0pt\;"> </p><p style="background-c
 olor:#ffffff\;line-height:1.3800000000000001\;marg
 in-bottom:0pt\;margin-top:0pt\;"><span style="back
 ground-color:transparent\;color:#000000\;"><i><spa
 n style="font-family:Calibri\, sans-serif\;font-si
 ze:12pt\;font-variant:normal\;font-weight:400\;tex
 t-decoration:none\;vertical-align:baseline\;white-
 space:pre-wrap\;">Çevrimiçi ortamda gerçekleşecek 
 buluşma serisi öğretmenler\, akademisyenler\, sivi
 l toplum çalışanları ve gönüllüleri başta olmak üz
 ere eğitimle ilgilenen herkesin katılımına açıktır
 . </span></i></span><span style="background-color:
 #ffffff\;color:#000000\;"><i><span style="font-fam
 ily:Calibri\, sans-serif\;font-size:12pt\;font-var
 iant:normal\;font-weight:400\;text-decoration:none
 \;vertical-align:baseline\;white-space:pre-wrap\;"
 >Etkinliğe kaydolmak için aşağıdaki “Etkinliğe Kay
 dol” butona tıklamanız yeterli.</span></i></span><
 /p></body></html>
DESCRIPTION:9 Mart Pazartesi günü 20:30-22:00 saatleri arasınd
 a Zoom’da çevrimiçi olarak gerçekleşecek Tekniğin 
 Ötesinde: Toplumsal Adalet ve Kapsayıcılık için Me
 dya Okuryazarlığı etkinliğine davetlisiniz!\n \n M
 edya okuryazarlığı son yıllarda hem iletişim hem d
 e eğitim bilimlerinin önemli konularından biri hal
 ine geldi. Dijital teknolojilerin eğitimi gittikçe
  şekillendirdiği\, toplumsal eşitsizliklerin\, ayr
 ımcılıkların ve şiddetin daha da görünür olduğu gü
 nümüz dünyasında medya okuryazarlığı eğitiminin da
 ha bütüncül bir perspektifle kurulması gerekiyor. 
 Bu buluşmada Çiğdem Bozdağ hocamızla medya okuryaz
 arlığını “kapsayıcı pedagoji” ve “toplumsal eşitsi
 zlikler” perspektifiyle ele alan çalışmalarını kon
 uşacağız. Medya okuryazarlığını teknik bir becerin
 in ötesinde\, bir toplumsal adalet ve kapsayıcılık
  meselesi olarak nasıl ele alabileceğimizi tartışa
 cak\, özellikle farklı kültürel ve sosyo-ekonomik 
 arka planlara sahip öğrencilerin olduğu heterojen 
 sınıflarda eleştirel bir medya eğitiminin nasıl ku
 rgulanabileceğini tartışacağız. \n \n SEÇBİR-Öğret
 men Ağı Akademi Buluşmaları\, akademide yürütülen 
 çalışmaların ve üretilen bilgilerin öğretmenler ba
 şta olmak üzere eğitimle ilgilenen herkesle\, öğre
 tmenlerdeki deneyimin ise akademiyle paylaşılmasın
 ı amaçlamaktadır. Farklı disiplinlerden akademisye
 nlerin farklı branşlardan eğitimcilerle bir araya 
 gelmesiyle günümüzün sorunlarına disiplinlerarası 
 bir bakış geliştirmeyi de hedeflemektedir. \n \n  
 \n \n Çevrimiçi ortamda gerçekleşecek buluşma seri
 si öğretmenler\, akademisyenler\, sivil toplum çal
 ışanları ve gönüllüleri başta olmak üzere eğitimle
  ilgilenen herkesin katılımına açıktır. Etkinliğe 
 kaydolmak için aşağıdaki “Etkinliğe Kaydol” butona
  tıklamanız yeterli.\n \n 
CATEGORIES:Online
CALSCALE:GREGORIAN
DTSTAMP;TZID=Europe/Istanbul:20260512T200000
DTSTART;TZID=Europe/Istanbul:20260512T200000
DTEND;TZID=Europe/Istanbul:20260512T213000
LOCATION:Çevrimiçi\n 
URL:https://www.ogretmenagi.org/en/civicrm/event/info?reset=1&id=3773
END:VEVENT
END:VCALENDAR
