BEGIN:VCALENDAR
VERSION:2.0
PRODID:-//CiviCRM//NONSGML CiviEvent iCal//EN
X-WR-TIMEZONE:Europe/Istanbul
METHOD:PUBLISH
BEGIN:VTIMEZONE
TZID:Europe/Istanbul
BEGIN:STANDARD
TZOFFSETFROM:+0300
TZOFFSETTO:+0300
TZNAME:+03
DTSTART:20260428T200000
END:STANDARD
END:VTIMEZONE
BEGIN:VEVENT
UID:CiviCRM_EventID_3772_7de277cec5f9cd97cdad0adadd9db21b@www.ogretmenagi.org/en
SUMMARY:Change Agents April Meeting: Transforming with Com
 munity
X-ALT-DESC;FMTTYPE=text/html:<!DOCTYPE HTML PUBLIC
  "-//W3C//DTD HTML 3.2//EN"><html><body><p style="
 line-height:1.3800000000000001\;margin-bottom:0pt\
 ;margin-top:0pt\;"><span style="background-color:t
 ransparent\;color:#000000\;"><span style="font-fam
 ily:Calibri\, sans-serif\;font-size:12pt\;font-sty
 le:normal\;font-variant:normal\;text-decoration:no
 ne\;vertical-align:baseline\;white-space:pre-wrap\
 ;"><strong>Değişim Elçileri Nisan Buluşması</stron
 g></span><span style="font-family:Calibri\, sans-s
 erif\;font-size:12pt\;font-style:normal\;font-vari
 ant:normal\;font-weight:400\;text-decoration:none\
 ;vertical-align:baseline\;white-space:pre-wrap\;">
  için </span><span style="font-family:Calibri\, sa
 ns-serif\;font-size:12pt\;font-style:normal\;font-
 variant:normal\;text-decoration:none\;vertical-ali
 gn:baseline\;white-space:pre-wrap\;"><strong>28 Ni
 san Salı </strong></span><span style="font-family:
 Calibri\, sans-serif\;font-size:12pt\;font-style:n
 ormal\;font-variant:normal\;font-weight:400\;text-
 decoration:none\;vertical-align:baseline\;white-sp
 ace:pre-wrap\;">günü </span><span style="font-fami
 ly:Calibri\, sans-serif\;font-size:12pt\;font-styl
 e:normal\;font-variant:normal\;text-decoration:non
 e\;vertical-align:baseline\;white-space:pre-wrap\;
 "><strong>20:00’da Zoom’da</strong></span><span st
 yle="font-family:Calibri\, sans-serif\;font-size:1
 2pt\;font-style:normal\;font-variant:normal\;font-
 weight:400\;text-decoration:none\;vertical-align:b
 aseline\;white-space:pre-wrap\;"> buluşuyoruz. 🌻</
 span></span></p><p style="line-height:1.3800000000
 000001\;margin-bottom:12pt\;margin-top:12pt\;text-
 align:justify\;"><span style="background-color:tra
 nsparent\;color:#000000\;"><span style="font-famil
 y:Calibri\, sans-serif\;font-size:12pt\;font-style
 :normal\;font-variant:normal\;font-weight:400\;tex
 t-decoration:none\;vertical-align:baseline\;white-
 space:pre-wrap\;">Nisan buluşmasında\; hayatın içi
 ndeki farklı katmanlara\, bize hem iyi gelen hem e
 nerji veren şeylere bakarken\; aynı zamanda bu ay 
 içinde zorlandığımız\, yorgunluk ve kaygı hissetti
 ğimiz noktaları da konuşacağız. Tüm bu deneyimleri
 n ortasında topluluk olmanın\, rutinlerin ve karşı
 lıklı dikkatimizin nerede durduğunu\, zamanın bizi
  bu süreçte neye çağırdığını birlikte anlamaya çal
 ışacağız. Buluşmanın sonunda ise bu paylaşımlardan
  süzülen ortak bir dönüşüm hikayesi yaratacağız.</
 span></span></p><p style="line-height:1.3800000000
 000001\;margin-bottom:12pt\;margin-top:12pt\;text-
 align:justify\;"><span style="background-color:tra
 nsparent\;color:#000000\;"><span style="font-famil
 y:Calibri\, sans-serif\;font-size:12pt\;font-style
 :normal\;font-variant:normal\;font-weight:400\;tex
 t-decoration:none\;vertical-align:baseline\;white-
 space:pre-wrap\;">Aylık Buluşmalarımız topluluğun 
 en önemli ritüellerinden biri. Burada her ay bir a
 raya geliyor\, müjdelerimizi\, heyecanlarımızı bir
 birimizle paylaşıyoruz. Topluluğumuzun canlılığını
  ve bağlarını besleyen buluşmalarda birbirimizden 
 haberdar oluyor\, duyuyor ve duyuluyoruz. Aylık Bu
 luşmalar\, topluluğun nabzını tuttuğumuz\, birbiri
 mize temas ettiğimiz\, birlikte düşünmenin ve birl
 ikte var olmanın zeminini yeniden kurduğumuz yerle
 r. Her buluşma aynı zamanda topluluk olma halimizi
  hatırladığımız güvenli bir alan. 🫂</span></span><
 /p><p style="line-height:1.3800000000000001\;margi
 n-bottom:12pt\;margin-top:12pt\;text-align:justify
 \;"><span style="background-color:transparent\;col
 or:#000000\;"><span style="font-family:Calibri\, s
 ans-serif\;font-size:12pt\;font-style:normal\;font
 -variant:normal\;font-weight:400\;text-decoration:
 none\;vertical-align:baseline\;white-space:pre-wra
 p\;">Öğretmen Ağı Kolaylaştırıcı Ekipten Nagihan D
 emirsu ve Yakup Yıldırım’ın moderasyonu ile gerçek
 leşecek </span><span style="font-family:Calibri\, 
 sans-serif\;font-size:12pt\;font-style:normal\;fon
 t-variant:normal\;text-decoration:none\;vertical-a
 lign:baseline\;white-space:pre-wrap\;"><strong>Değ
 işim Elçileri Nisan Buluşması</strong></span><span
  style="font-family:Calibri\, sans-serif\;font-siz
 e:12pt\;font-style:normal\;font-variant:normal\;fo
 nt-weight:400\;text-decoration:none\;vertical-alig
 n:baseline\;white-space:pre-wrap\;">’nda buluşalım
 .</span></span></p><p style="line-height:1.3800000
 000000001\;margin-bottom:12pt\;margin-top:12pt\;">
 <span style="background-color:transparent\;color:#
 000000\;"><span style="font-family:Calibri\, sans-
 serif\;font-size:12pt\;font-style:normal\;font-var
 iant:normal\;text-decoration:none\;vertical-align:
 baseline\;white-space:pre-wrap\;"><strong>28 Nisan
 ’da görüşmek üzere! 💜</strong></span></span></p><p
  style="line-height:1.3800000000000001\;margin-bot
 tom:12pt\;margin-top:12pt\;"><span style="backgrou
 nd-color:transparent\;color:#000000\;"><i><span st
 yle="font-family:Calibri\, sans-serif\;font-size:1
 2pt\;font-variant:normal\;font-weight:400\;text-de
 coration:none\;vertical-align:baseline\;white-spac
 e:pre-wrap\;">Buluşmaya kayıt olmak için aşağıda y
 er alan “Etkinliğe Kaydol” butonuna tıklayabiliriz
 . Ardından buluşmaya katılmak için kullanacağınız 
 Zoom linki mail adresinize iletecektir. </span></i
 ></span></p><p style="line-height:1.38000000000000
 01\;margin-bottom:12pt\;margin-top:12pt\;"><span s
 tyle="background-color:transparent\;color:#000000\
 ;"><span style="font-family:Calibri\, sans-serif\;
 font-size:12pt\;font-style:normal\;font-variant:no
 rmal\;font-weight:400\;text-decoration:none\;verti
 cal-align:baseline\;white-space:pre-wrap\;">Görüşm
 ek üzere! </span></span></p><p style="line-height:
 1.3800000000000001\;margin-bottom:12pt\;margin-top
 :12pt\;"><a style="text-decoration:none\;" href="h
 ttps://www.ogretmenagi.org/kolaylastirici-ekip"><s
 pan style="background-color:transparent\;color:#11
 55cc\;"><span style="font-family:Calibri\, sans-se
 rif\;font-size:12pt\;font-style:normal\;font-varia
 nt:normal\;font-weight:400\;vertical-align:baselin
 e\;white-space:pre-wrap\;"><u>Öğretmen Ağı Kolayla
 ştırıcı Ekip</u></span></span></a></p><p> </p></bo
 dy></html>
DESCRIPTION:Değişim Elçileri Nisan Buluşması için 28 Nisan Sal
 ı günü 20:00’da Zoom’da buluşuyoruz. 🌻\n \n Nisan 
 buluşmasında\; hayatın içindeki farklı katmanlara\
 , bize hem iyi gelen hem enerji veren şeylere baka
 rken\; aynı zamanda bu ay içinde zorlandığımız\, y
 orgunluk ve kaygı hissettiğimiz noktaları da konuş
 acağız. Tüm bu deneyimlerin ortasında topluluk olm
 anın\, rutinlerin ve karşılıklı dikkatimizin nered
 e durduğunu\, zamanın bizi bu süreçte neye çağırdı
 ğını birlikte anlamaya çalışacağız. Buluşmanın son
 unda ise bu paylaşımlardan süzülen ortak bir dönüş
 üm hikayesi yaratacağız.\n \n Aylık Buluşmalarımız
  topluluğun en önemli ritüellerinden biri. Burada 
 her ay bir araya geliyor\, müjdelerimizi\, heyecan
 larımızı birbirimizle paylaşıyoruz. Topluluğumuzun
  canlılığını ve bağlarını besleyen buluşmalarda bi
 rbirimizden haberdar oluyor\, duyuyor ve duyuluyor
 uz. Aylık Buluşmalar\, topluluğun nabzını tuttuğum
 uz\, birbirimize temas ettiğimiz\, birlikte düşünm
 enin ve birlikte var olmanın zeminini yeniden kurd
 uğumuz yerler. Her buluşma aynı zamanda topluluk o
 lma halimizi hatırladığımız güvenli bir alan. 🫂\n 
 \n Öğretmen Ağı Kolaylaştırıcı Ekipten Nagihan Dem
 irsu ve Yakup Yıldırım’ın moderasyonu ile gerçekle
 şecek Değişim Elçileri Nisan Buluşması’nda buluşal
 ım.\n \n 28 Nisan’da görüşmek üzere! 💜\n \n Buluşm
 aya kayıt olmak için aşağıda yer alan “Etkinliğe K
 aydol” butonuna tıklayabiliriz. Ardından buluşmaya
  katılmak için kullanacağınız Zoom linki mail adre
 sinize iletecektir. \n \n Görüşmek üzere! \n \n Öğ
 retmen Ağı Kolaylaştırıcı Ekip\n \n  \n \n 
CATEGORIES:Online
CALSCALE:GREGORIAN
DTSTAMP;TZID=Europe/Istanbul:20260428T200000
DTSTART;TZID=Europe/Istanbul:20260428T200000
DTEND;TZID=Europe/Istanbul:20260428T213000
LOCATION:Çevrimiçi\n 
URL:https://www.ogretmenagi.org/en/civicrm/event/info?reset=1&id=3772
END:VEVENT
END:VCALENDAR
