BEGIN:VCALENDAR
VERSION:2.0
PRODID:-//CiviCRM//NONSGML CiviEvent iCal//EN
X-WR-TIMEZONE:Europe/Istanbul
METHOD:PUBLISH
BEGIN:VTIMEZONE
TZID:Europe/Istanbul
BEGIN:STANDARD
TZOFFSETFROM:+0300
TZOFFSETTO:+0300
TZNAME:+03
DTSTART:20260512T200000
END:STANDARD
END:VTIMEZONE
BEGIN:VEVENT
UID:CiviCRM_EventID_3773_936e6def5ac8207132705c2156bc91b4@www.ogretmenagi.org
SUMMARY:Tekniğin Ötesinde: Toplumsal Adalet ve Kapsayıcılı
 k için Medya Okuryazarlığı
X-ALT-DESC;FMTTYPE=text/html:<!DOCTYPE HTML PUBLIC
  "-//W3C//DTD HTML 3.2//EN"><html><body><p style="
 line-height:1.3800000000000001\;margin-bottom:12pt
 \;margin-top:12pt\;"><span style="background-color
 :transparent\;color:#000000\;"><span style="font-f
 amily:Calibri\, sans-serif\;font-size:12pt\;font-s
 tyle:normal\;font-variant:normal\;font-weight:400\
 ;text-decoration:none\;vertical-align:baseline\;wh
 ite-space:pre-wrap\;">12 Mayıs Salı</span></span><
 span style="background-color:#ffffff\;color:#00000
 0\;"><span style="font-family:Calibri\, sans-serif
 \;font-size:12pt\;font-style:normal\;font-variant:
 normal\;font-weight:400\;text-decoration:none\;ver
 tical-align:baseline\;white-space:pre-wrap\;"> gün
 ü </span></span><span style="background-color:tran
 sparent\;color:#000000\;"><span style="font-family
 :Calibri\, sans-serif\;font-size:12pt\;font-style:
 normal\;font-variant:normal\;font-weight:400\;text
 -decoration:none\;vertical-align:baseline\;white-s
 pace:pre-wrap\;">20:00-21:30</span></span><span st
 yle="background-color:#ffffff\;color:#000000\;"><s
 pan style="font-family:Calibri\, sans-serif\;font-
 size:12pt\;font-style:normal\;font-variant:normal\
 ;font-weight:400\;text-decoration:none\;vertical-a
 lign:baseline\;white-space:pre-wrap\;"> saatleri a
 rasında Zoom’da çevrimiçi olarak gerçekleşecek</sp
 an></span><span style="background-color:transparen
 t\;color:#000000\;"><span style="font-family:Calib
 ri\, sans-serif\;font-size:12pt\;font-style:normal
 \;font-variant:normal\;font-weight:400\;text-decor
 ation:none\;vertical-align:baseline\;white-space:p
 re-wrap\;"> </span></span><span style="background-
 color:#ffffff\;color:#000000\;"><span style="font-
 family:Calibri\, sans-serif\;font-size:12pt\;font-
 style:normal\;font-variant:normal\;font-weight:400
 \;text-decoration:none\;vertical-align:baseline\;w
 hite-space:pre-wrap\;">Tekniğin Ötesinde: Toplumsa
 l Adalet ve Kapsayıcılık için Medya Okuryazarlığı 
 etkinliğine davetlisiniz!</span></span></p><p styl
 e="line-height:1.3800000000000001\;margin-bottom:1
 2pt\;margin-top:12pt\;"><span style="background-co
 lor:#ffffff\;color:#000000\;"><span style="font-fa
 mily:Calibri\, sans-serif\;font-size:12pt\;font-st
 yle:normal\;font-variant:normal\;font-weight:400\;
 text-decoration:none\;vertical-align:baseline\;whi
 te-space:pre-wrap\;">Medya okuryazarlığı son yılla
 rda hem iletişim hem de eğitim bilimlerinin önemli
  konularından biri haline geldi. Dijital teknoloji
 lerin eğitimi gittikçe şekillendirdiği\, toplumsal
  eşitsizliklerin\, ayrımcılıkların ve şiddetin dah
 a da görünür olduğu günümüz dünyasında medya okury
 azarlığı eğitiminin daha bütüncül bir perspektifle
  kurulması gerekiyor. Bu buluşmada Çiğdem Bozdağ h
 ocamızla medya okuryazarlığını “kapsayıcı pedagoji
 ” ve “toplumsal eşitsizlikler” perspektifiyle ele 
 alan çalışmalarını konuşacağız. Medya okuryazarlığ
 ını teknik bir becerinin ötesinde\, bir toplumsal 
 adalet ve kapsayıcılık meselesi olarak nasıl ele a
 labileceğimizi tartışacak\, özellikle farklı kültü
 rel ve sosyo-ekonomik arka planlara sahip öğrencil
 erin olduğu heterojen sınıflarda eleştirel bir med
 ya eğitiminin nasıl kurgulanabileceğini tartışacağ
 ız. </span></span></p><p style="line-height:1.3800
 000000000001\;margin-bottom:0pt\;margin-top:0pt\;"
 ><span style="background-color:transparent\;color:
 #000000\;"><span style="font-family:Calibri\, sans
 -serif\;font-size:12pt\;font-style:normal\;font-va
 riant:normal\;font-weight:400\;text-decoration:non
 e\;vertical-align:baseline\;white-space:pre-wrap\;
 ">SEÇBİR-Öğretmen Ağı Akademi Buluşmaları\, akadem
 ide yürütülen çalışmaların ve üretilen bilgilerin 
 öğretmenler başta olmak üzere eğitimle ilgilenen h
 erkesle\, öğretmenlerdeki deneyimin ise akademiyle
  paylaşılmasını amaçlamaktadır. Farklı disiplinler
 den akademisyenlerin farklı branşlardan eğitimcile
 rle bir araya gelmesiyle günümüzün sorunlarına dis
 iplinlerarası bir bakış geliştirmeyi de hedeflemek
 tedir. </span></span></p><p style="background-colo
 r:#ffffff\;line-height:1.3800000000000001\;margin-
 bottom:0pt\;margin-top:0pt\;"> </p><p style="backg
 round-color:#ffffff\;line-height:1.380000000000000
 1\;margin-bottom:0pt\;margin-top:0pt\;"><span styl
 e="background-color:transparent\;color:#000000\;">
 <i><span style="font-family:Calibri\, sans-serif\;
 font-size:12pt\;font-variant:normal\;font-weight:4
 00\;text-decoration:none\;vertical-align:baseline\
 ;white-space:pre-wrap\;">Çevrimiçi ortamda gerçekl
 eşecek buluşma serisi öğretmenler\, akademisyenler
 \, sivil toplum çalışanları ve gönüllüleri başta o
 lmak üzere eğitimle ilgilenen herkesin katılımına 
 açıktır. </span></i></span><span style="background
 -color:#ffffff\;color:#000000\;"><i><span style="f
 ont-family:Calibri\, sans-serif\;font-size:12pt\;f
 ont-variant:normal\;font-weight:400\;text-decorati
 on:none\;vertical-align:baseline\;white-space:pre-
 wrap\;">Etkinliğe kaydolmak için aşağıdaki “Etkinl
 iğe Kaydol” butona tıklamanız yeterli.</span></i><
 /span></p><p style="background-color:#ffffff\;line
 -height:1.3800000000000001\;margin-bottom:0pt\;mar
 gin-top:0pt\;"> </p></body></html>
DESCRIPTION:12 Mayıs Salı günü 20:00-21:30 saatleri arasında Z
 oom’da çevrimiçi olarak gerçekleşecek Tekniğin Öte
 sinde: Toplumsal Adalet ve Kapsayıcılık için Medya
  Okuryazarlığı etkinliğine davetlisiniz!\n \n Medy
 a okuryazarlığı son yıllarda hem iletişim hem de e
 ğitim bilimlerinin önemli konularından biri haline
  geldi. Dijital teknolojilerin eğitimi gittikçe şe
 killendirdiği\, toplumsal eşitsizliklerin\, ayrımc
 ılıkların ve şiddetin daha da görünür olduğu günüm
 üz dünyasında medya okuryazarlığı eğitiminin daha 
 bütüncül bir perspektifle kurulması gerekiyor. Bu 
 buluşmada Çiğdem Bozdağ hocamızla medya okuryazarl
 ığını “kapsayıcı pedagoji” ve “toplumsal eşitsizli
 kler” perspektifiyle ele alan çalışmalarını konuşa
 cağız. Medya okuryazarlığını teknik bir becerinin 
 ötesinde\, bir toplumsal adalet ve kapsayıcılık me
 selesi olarak nasıl ele alabileceğimizi tartışacak
 \, özellikle farklı kültürel ve sosyo-ekonomik ark
 a planlara sahip öğrencilerin olduğu heterojen sın
 ıflarda eleştirel bir medya eğitiminin nasıl kurgu
 lanabileceğini tartışacağız. \n \n SEÇBİR-Öğretmen
  Ağı Akademi Buluşmaları\, akademide yürütülen çal
 ışmaların ve üretilen bilgilerin öğretmenler başta
  olmak üzere eğitimle ilgilenen herkesle\, öğretme
 nlerdeki deneyimin ise akademiyle paylaşılmasını a
 maçlamaktadır. Farklı disiplinlerden akademisyenle
 rin farklı branşlardan eğitimcilerle bir araya gel
 mesiyle günümüzün sorunlarına disiplinlerarası bir
  bakış geliştirmeyi de hedeflemektedir. \n \n  \n 
 \n Çevrimiçi ortamda gerçekleşecek buluşma serisi 
 öğretmenler\, akademisyenler\, sivil toplum çalışa
 nları ve gönüllüleri başta olmak üzere eğitimle il
 gilenen herkesin katılımına açıktır. Etkinliğe kay
 dolmak için aşağıdaki “Etkinliğe Kaydol” butona tı
 klamanız yeterli.\n \n  \n \n 
CATEGORIES:Çevrimiçi
CALSCALE:GREGORIAN
DTSTAMP;TZID=Europe/Istanbul:20260512T200000
DTSTART;TZID=Europe/Istanbul:20260512T200000
DTEND;TZID=Europe/Istanbul:20260512T213000
LOCATION:Çevrimiçi\n 
URL:https://www.ogretmenagi.org/civicrm/event/info?reset=1&id=3773
END:VEVENT
END:VCALENDAR
