BEGIN:VCALENDAR
VERSION:2.0
PRODID:-//CiviCRM//NONSGML CiviEvent iCal//EN
X-WR-TIMEZONE:Europe/Istanbul
METHOD:PUBLISH
BEGIN:VTIMEZONE
TZID:Europe/Istanbul
BEGIN:STANDARD
TZOFFSETFROM:+0300
TZOFFSETTO:+0300
TZNAME:+03
DTSTART:20260506T200000
END:STANDARD
END:VTIMEZONE
BEGIN:VEVENT
UID:CiviCRM_EventID_3768_936e6def5ac8207132705c2156bc91b4@www.ogretmenagi.org
SUMMARY:İngilizce Bilenler için İngilizce Etkileşim ve Kon
 uşma Pratiği Buluşmaları
X-ALT-DESC;FMTTYPE=text/html:<!DOCTYPE HTML PUBLIC
  "-//W3C//DTD HTML 3.2//EN"><html><body><p style="
 line-height:1.38\;margin-bottom:0pt\;margin-top:12
 pt\;"><span style="background-color:transparent\;c
 olor:#000000\;"><span style="font-family:Calibri\,
  sans-serif\;font-size:12pt\;font-style:normal\;fo
 nt-variant:normal\;text-decoration:none\;vertical-
 align:baseline\;white-space:pre-wrap\;"><strong>6 
 Mayıs Çarşamba </strong></span><span style="font-f
 amily:Calibri\, sans-serif\;font-size:12pt\;font-s
 tyle:normal\;font-variant:normal\;font-weight:400\
 ;text-decoration:none\;vertical-align:baseline\;wh
 ite-space:pre-wrap\;">günü</span><span style="font
 -family:Calibri\, sans-serif\;font-size:12pt\;font
 -style:normal\;font-variant:normal\;text-decoratio
 n:none\;vertical-align:baseline\;white-space:pre-w
 rap\;"><strong> 20.00-21:30</strong></span><span s
 tyle="font-family:Calibri\, sans-serif\;font-size:
 12pt\;font-style:normal\;font-variant:normal\;font
 -weight:400\;text-decoration:none\;vertical-align:
 baseline\;white-space:pre-wrap\;"> saatleri arasın
 da</span><span style="font-family:Calibri\, sans-s
 erif\;font-size:12pt\;font-style:normal\;font-vari
 ant:normal\;text-decoration:none\;vertical-align:b
 aseline\;white-space:pre-wrap\;"><strong> Öğretmen
  Dayanışma Alanı</strong></span><span style="font-
 family:Calibri\, sans-serif\;font-size:12pt\;font-
 style:normal\;font-variant:normal\;font-weight:400
 \;text-decoration:none\;vertical-align:baseline\;w
 hite-space:pre-wrap\;">’nda</span><span style="fon
 t-family:Calibri\, sans-serif\;font-size:12pt\;fon
 t-style:normal\;font-variant:normal\;text-decorati
 on:none\;vertical-align:baseline\;white-space:pre-
 wrap\;"><strong> yüz yüze </strong></span><span st
 yle="font-family:Calibri\, sans-serif\;font-size:1
 2pt\;font-style:normal\;font-variant:normal\;font-
 weight:400\;text-decoration:none\;vertical-align:b
 aseline\;white-space:pre-wrap\;">gerçekleşecek </s
 pan><i><span style="font-family:Calibri\, sans-ser
 if\;font-size:12pt\;font-variant:normal\;text-deco
 ration:none\;vertical-align:baseline\;white-space:
 pre-wrap\;"><strong>İngilizce Bilenler için İngili
 zce Etkileşim & Konuşma Pratiği Buluşmaları</stron
 g></span></i><span style="font-family:Calibri\, sa
 ns-serif\;font-size:12pt\;font-style:normal\;font-
 variant:normal\;font-weight:400\;text-decoration:n
 one\;vertical-align:baseline\;white-space:pre-wrap
 \;"> etkinliğine davetlisiniz!</span></span></p><p
  style="line-height:1.38\;margin-bottom:0pt\;margi
 n-top:12pt\;"><span style="background-color:#fffff
 f\;color:#000000\;"><span style="font-family:Calib
 ri\, sans-serif\;font-size:12pt\;font-style:normal
 \;font-variant:normal\;font-weight:400\;text-decor
 ation:none\;vertical-align:baseline\;white-space:p
 re-wrap\;">İngilizce biliyorsanız ve konuşma prati
 ği yapmak istiyorsanız </span><i><span style="font
 -family:Calibri\, sans-serif\;font-size:12pt\;font
 -variant:normal\;font-weight:400\;text-decoration:
 none\;vertical-align:baseline\;white-space:pre-wra
 p\;">İngilizce Bilenler İçin Etkileşim ve Konuşma 
 Pratiği Buluşmaları</span></i><span style="font-fa
 mily:Calibri\, sans-serif\;font-size:12pt\;font-st
 yle:normal\;font-variant:normal\;font-weight:400\;
 text-decoration:none\;vertical-align:baseline\;whi
 te-space:pre-wrap\;">na gelebilirsiniz. Öğretmen A
 ğı Değişim Elçileri İsmail Arslan ve Kamik Akkaya’
 nın yürütücü olarak yer alacağı ve 15 günde bir dü
 zenlediğimiz bu buluşmalar\; İngilizce bilen ve ko
 nuşma pratiği yapmak isteyenlerin bir araya gelip\
 , deneyimlerini paylaşabileceği\, etkileşimli bir 
 ortam yaratmayı amaçlıyor. </span></span></p><p st
 yle="line-height:1.38\;margin-bottom:0pt\;margin-t
 op:12pt\;"><span style="background-color:#ffffff\;
 color:#000000\;"><span style="font-family:Calibri\
 , sans-serif\;font-size:12pt\;font-style:normal\;f
 ont-variant:normal\;font-weight:400\;text-decorati
 on:none\;vertical-align:baseline\;white-space:pre-
 wrap\;">İngilizce konuşma pratiği yapmak isteyenle
 rle 6 Mayıs'ta buluşalım.</span></span></p><p styl
 e="line-height:1.38\;margin-bottom:0pt\;margin-top
 :12pt\;"><span style="background-color:#ffffff\;co
 lor:#000000\;"><i><span style="font-family:Calibri
 \, sans-serif\;font-size:12pt\;font-variant:normal
 \;font-weight:400\;text-decoration:none\;vertical-
 align:baseline\;white-space:pre-wrap\;">İngilizce 
 öğretmenlerinin ve İngilizce bilenlerin katılımına
  açık ve ücretsiz olan etkinliğe katılmak için aşa
 ğıda yer alan “Etkinliğe Kaydol” butonuna tıklayab
 ilirsiniz.</span></i></span></p><p><span style="ba
 ckground-color:transparent\;color:#000000\;"><span
  style="font-family:Calibri\, sans-serif\;font-siz
 e:12pt\;font-style:normal\;font-variant:normal\;te
 xt-decoration:none\;vertical-align:baseline\;white
 -space:pre-wrap\;"><strong>Adres: </strong></span>
 <span style="font-family:Calibri\, sans-serif\;fon
 t-size:12pt\;font-style:normal\;font-variant:norma
 l\;font-weight:400\;text-decoration:none\;vertical
 -align:baseline\;white-space:pre-wrap\;">Büyükdaly
 an Mahallesi\, E-5 Karayolu Caddesi\, Akpet Petrol
  Karşısı Defne Otomotiv Yanı Antakya/Hatay</span><
 /span></p></body></html>
DESCRIPTION:6 Mayıs Çarşamba günü 20.00-21:30 saatleri arasınd
 a Öğretmen Dayanışma Alanı’nda yüz yüze gerçekleşe
 cek İngilizce Bilenler için İngilizce Etkileşim & 
 Konuşma Pratiği Buluşmaları etkinliğine davetlisin
 iz!\n \n İngilizce biliyorsanız ve konuşma pratiği
  yapmak istiyorsanız İngilizce Bilenler İçin Etkil
 eşim ve Konuşma Pratiği Buluşmalarına gelebilirsin
 iz. Öğretmen Ağı Değişim Elçileri İsmail Arslan ve
  Kamik Akkaya’nın yürütücü olarak yer alacağı ve 1
 5 günde bir düzenlediğimiz bu buluşmalar\; İngiliz
 ce bilen ve konuşma pratiği yapmak isteyenlerin bi
 r araya gelip\, deneyimlerini paylaşabileceği\, et
 kileşimli bir ortam yaratmayı amaçlıyor. \n \n İng
 ilizce konuşma pratiği yapmak isteyenlerle 6 Mayıs
 'ta buluşalım.\n \n İngilizce öğretmenlerinin ve İ
 ngilizce bilenlerin katılımına açık ve ücretsiz ol
 an etkinliğe katılmak için aşağıda yer alan “Etkin
 liğe Kaydol” butonuna tıklayabilirsiniz.\n \n Adre
 s: Büyükdalyan Mahallesi\, E-5 Karayolu Caddesi\, 
 Akpet Petrol Karşısı Defne Otomotiv Yanı Antakya/H
 atay\n \n 
CATEGORIES:Fiziksel
CALSCALE:GREGORIAN
DTSTAMP;TZID=Europe/Istanbul:20260506T200000
DTSTART;TZID=Europe/Istanbul:20260506T200000
DTEND;TZID=Europe/Istanbul:20260506T213000
LOCATION:Öğretmen Dayanışma Alanı\n Büyükdalyan Mahallesi\,
  E-5 Karayolu Caddesi\, Akpet Petrol Karşısı Defne
  Otomotiv Yanı\n Antakya/Hatay\n 
URL:https://www.ogretmenagi.org/civicrm/event/info?reset=1&id=3768
END:VEVENT
END:VCALENDAR
